BEGIN:VCALENDAR
VERSION:2.0
PRODID:-//SPC - Sociedade Portuguesa de Cardiologia - ECPv6.15.18//NONSGML v1.0//EN
CALSCALE:GREGORIAN
METHOD:PUBLISH
X-WR-CALNAME:SPC - Sociedade Portuguesa de Cardiologia
X-ORIGINAL-URL:https://spc.pt
X-WR-CALDESC:Eventos para SPC - Sociedade Portuguesa de Cardiologia
REFRESH-INTERVAL;VALUE=DURATION:PT1H
X-Robots-Tag:noindex
X-PUBLISHED-TTL:PT1H
BEGIN:VTIMEZONE
TZID:UTC
BEGIN:STANDARD
TZOFFSETFROM:+0000
TZOFFSETTO:+0000
TZNAME:UTC
DTSTART:20250101T000000
END:STANDARD
END:VTIMEZONE
BEGIN:VEVENT
DTSTART;VALUE=DATE:20260213
DTEND;VALUE=DATE:20260215
DTSTAMP:20260420T110442
CREATED:20251106T125655Z
LAST-MODIFIED:20251106T172154Z
UID:10351-1770940800-1771113599@spc.pt
SUMMARY:Curso TECH CMR (equipamentos Philips)
DESCRIPTION:Eventos\nCurso TECH CMR (equipamentos Philips)\nData:  13 e 14 de Fevereiro de 2026\nLocal: Academia Cardiovascular da SPC | Porto \n\nSaiba Mais \n\n  \n 
URL:https://spc.pt/evento/curso-tech-crm-equipamentos-philips/
ATTACH;FMTTYPE=image/png:https://spc.pt/wp-content/uploads/2025/02/Group-81447.png
END:VEVENT
BEGIN:VEVENT
DTSTART;VALUE=DATE:20260220
DTEND;VALUE=DATE:20260221
DTSTAMP:20260420T110442
CREATED:20251106T125843Z
LAST-MODIFIED:20251106T125843Z
UID:10354-1771545600-1771631999@spc.pt
SUMMARY:Curso Preparação Exame Europeu – Inicio do Curso
DESCRIPTION:Eventos\nCurso Preparação Exame Europeu – Inicio do Curso\nData:  20 de Fevereiro de 2026\nLocal: Online \n\nSaiba Mais \n\n  \n 
URL:https://spc.pt/evento/curso-preparacao-exame-europeu-inicio-do-curso/
ATTACH;FMTTYPE=image/png:https://spc.pt/wp-content/uploads/2025/02/Group-81447.png
END:VEVENT
BEGIN:VEVENT
DTSTART;VALUE=DATE:20260225
DTEND;VALUE=DATE:20260226
DTSTAMP:20260420T110442
CREATED:20260120T184518Z
LAST-MODIFIED:20260213T110635Z
UID:11543-1771977600-1772063999@spc.pt
SUMMARY:Tertúlia RPC - Viatris
DESCRIPTION:Eventos\n\n\nTertúlia RPC – Viatris\nPlano estratégico para a saúde cardiovascular em Portugal – SPC\n\nIntrodução:\nProf. Mário Oliveira\nModeradora:\nProfessora Cristina Gavina\n\n\nPalestrantes:\nDra. Sofia Cabral\nDra. Fátima Franco\nData: 25 de Fevereiro 2026 – 19:00\nLocal: Casa do coração – Lisboa\n\n\nInscrição presencial \nInscrição online
URL:https://spc.pt/evento/tertulia-rpc-viatris/
ATTACH;FMTTYPE=image/png:https://spc.pt/wp-content/uploads/2025/02/Group-81447.png
END:VEVENT
BEGIN:VEVENT
DTSTART;VALUE=DATE:20260227
DTEND;VALUE=DATE:20260301
DTSTAMP:20260420T110442
CREATED:20251215T111023Z
LAST-MODIFIED:20260225T180101Z
UID:10990-1772150400-1772323199@spc.pt
SUMMARY:Reunião Científica “Enfermagem Avançada no âmbito da Saúde Cardiovascular”
DESCRIPTION:Eventos\n  \nReunião Científica “Enfermagem Avançada no âmbito da Saúde Cardiovascular”\nData: 27 e 28 de Fevereiro de 2026 \nDia 27/02 (sexta-feira) – Curso pré-reunião: Acessos Vasculares Ecoguiados – limite 11 inscrições \nDia 28/02 (Sábado) Reunião \nLocal: Auditório da SPC\, Lisboa \n  \n\nPrograma \nInscrição \nSubmissão de Comunicações livres – Data limite 10 de Fevereiro 2026
URL:https://spc.pt/evento/enfermagem-avancada-no-ambito-da-saude-cardiovascular/
ATTACH;FMTTYPE=image/png:https://spc.pt/wp-content/uploads/2025/02/Group-81447.png
END:VEVENT
END:VCALENDAR