BEGIN:VCALENDAR
VERSION:2.0
PRODID:-//SPC - Sociedade Portuguesa de Cardiologia - ECPv6.15.18//NONSGML v1.0//EN
CALSCALE:GREGORIAN
METHOD:PUBLISH
X-ORIGINAL-URL:https://spc.pt
X-WR-CALDESC:Eventos para SPC - Sociedade Portuguesa de Cardiologia
REFRESH-INTERVAL;VALUE=DURATION:PT1H
X-Robots-Tag:noindex
X-PUBLISHED-TTL:PT1H
BEGIN:VTIMEZONE
TZID:UTC
BEGIN:STANDARD
TZOFFSETFROM:+0000
TZOFFSETTO:+0000
TZNAME:UTC
DTSTART:20250101T000000
END:STANDARD
END:VTIMEZONE
BEGIN:VEVENT
DTSTART;VALUE=DATE:20260910
DTEND;VALUE=DATE:20260913
DTSTAMP:20260420T124745
CREATED:20260414T101512Z
LAST-MODIFIED:20260414T101512Z
UID:12175-1788998400-1789257599@spc.pt
SUMMARY:X BIENAL DE CARDIOLOGIA DA ILHA TERCEIRA
DESCRIPTION:Eventos\nX BIENAL DE CARDIOLOGIA DA ILHA TERCEIRA\n  \nData: 10 a 12 Setembro de 2026\nLocal: A definir \n\nPrograma Provisório \n  \n\n 
URL:https://spc.pt/evento/x-bienal-de-cardiologia-da-ilha-terceira/
ATTACH;FMTTYPE=image/png:https://spc.pt/wp-content/uploads/2025/02/Group-81447.png
END:VEVENT
BEGIN:VEVENT
DTSTART;VALUE=DATE:20260918
DTEND;VALUE=DATE:20260919
DTSTAMP:20260420T124745
CREATED:20260408T093418Z
LAST-MODIFIED:20260408T093418Z
UID:12051-1789689600-1789775999@spc.pt
SUMMARY:Reunião do Grupo de Estudo de Ecocardiografia (GEE) e do Grupo de Estudo de Doenças Valvulares (GEDV) “One-Day Valve Meeting – from imaging to decision”
DESCRIPTION:Eventos\nReunião do Grupo de Estudo de Ecocardiografia (GEE) e do Grupo de Estudo de Doenças Valvulares (GEDV) “One-Day Valve Meeting – from imaging to decision”\nData: 18 de Setembro 2026 \nLocal: Auditório da Sociedade Portuguesa de Cardiologia \n\n 
URL:https://spc.pt/evento/reuniao-do-grupo-de-estudo-de-ecocardiografia-gee-e-do-grupo-de-estudo-de-doencas-valvulares-gedv-one-day-valve-meeting-from-imaging-to-decision/
ATTACH;FMTTYPE=image/png:https://spc.pt/wp-content/uploads/2025/02/Group-81447.png
END:VEVENT
END:VCALENDAR